BEGIN:VCALENDAR
VERSION:2.0
PRODID:-//Sierra Arts Foundation - ECPv5.1.6//NONSGML v1.0//EN
CALSCALE:GREGORIAN
METHOD:PUBLISH
X-WR-CALNAME:Sierra Arts Foundation
X-ORIGINAL-URL:https://sierraarts.org
X-WR-CALDESC:Events for Sierra Arts Foundation
BEGIN:VTIMEZONE
TZID:America/Los_Angeles
BEGIN:DAYLIGHT
TZOFFSETFROM:-0800
TZOFFSETTO:-0700
TZNAME:PDT
DTSTART:20210314T100000
END:DAYLIGHT
BEGIN:STANDARD
TZOFFSETFROM:-0700
TZOFFSETTO:-0800
TZNAME:PST
DTSTART:20211107T090000
END:STANDARD
END:VTIMEZONE
BEGIN:VEVENT
DTSTART;VALUE=DATE:20210403
DTEND;VALUE=DATE:20210425
DTSTAMP:20260421T101806
CREATED:20210325T224156Z
LAST-MODIFIED:20210325T224156Z
UID:438256-1617408000-1619308799@sierraarts.org
SUMMARY:Being an Exhibition by Grace Davis\, Tatum Sutliff\, and Abigail Penfold
DESCRIPTION:Exhibition: April 3-24 \nReception: Saturday\, April 10 1-3 PM \nIn this exhibit\, Grace Davis\, Tatum Sutliff\,and Abigail Penfold present hyper realistic and abstract works on paper\, canvas\, and plaster casts. Through representations of the body and their surroundings\, viewers are encouraged to embrace the now while welcoming moments of the in between. The artists allow for reflection of the macro and micro mundane activities and influences on our bodies\, to slow down\, and hold still. \nImage: Belly by Tatum Sutliff
URL:https://sierraarts.org/event/being-an-exhibition-by-grace-davis-tatum-sutliff-and-abigail-penfold/
LOCATION:Sierra Arts Riverside Gallery\, 17 S Virginia Street\, Suite 120\, Reno\, NV\, 89501\, United States
CATEGORIES:Artist Reception,Exhibits
ATTACH;FMTTYPE=image/jpeg:https://sierraarts.org/wp-content/uploads/2021/03/Belly_Sutliff-scaled.jpg
ORGANIZER;CN="Sierra%20Arts%20Foundation":MAILTO:info@sierraarts.org
END:VEVENT
END:VCALENDAR