BEGIN:VCALENDAR
VERSION:2.0
PRODID:-//Sierra Arts Foundation - ECPv5.1.6//NONSGML v1.0//EN
CALSCALE:GREGORIAN
METHOD:PUBLISH
X-WR-CALNAME:Sierra Arts Foundation
X-ORIGINAL-URL:https://sierraarts.org
X-WR-CALDESC:Events for Sierra Arts Foundation
BEGIN:VTIMEZONE
TZID:America/Los_Angeles
BEGIN:DAYLIGHT
TZOFFSETFROM:-0800
TZOFFSETTO:-0700
TZNAME:PDT
DTSTART:20240310T100000
END:DAYLIGHT
BEGIN:STANDARD
TZOFFSETFROM:-0700
TZOFFSETTO:-0800
TZNAME:PST
DTSTART:20241103T090000
END:STANDARD
END:VTIMEZONE
BEGIN:VEVENT
DTSTART;TZID=America/Los_Angeles:20240128T130000
DTEND;TZID=America/Los_Angeles:20240128T170000
DTSTAMP:20260421T050413
CREATED:20240108T234210Z
LAST-MODIFIED:20240108T234228Z
UID:446351-1706446800-1706461200@sierraarts.org
SUMMARY:Call for Artists! Art Bowl at the National Bowling Stadium!
DESCRIPTION:Join us January 28th\, from 1 p.m. – 5 p.m.\, for Art Bowl at the National Bowling Stadium! \nA portion of the proceeds will benefit Sierra Arts Foundation. \nSince 1971\, it has been the mission of Sierra Arts Foundation to unify\, inspire\, elevate\, and give voice to the arts and humanities in Northern Nevada through community driven programs\, education\, artist services\, and advocacy. \nWe encourage artists\, art lovers\, supporters of the arts\, and bowling enthusiasts to attend. Local artists will be on site displaying their art and we will be launching a mural project that will be painted inside the Reno-Sparks Convention Center. \nWould you like to participate as an artist vendor? We would love to have you! \nPlease fill out THIS FORM! \n  \n 
URL:https://sierraarts.org/event/call-for-artists-art-bowl-at-the-national-bowling-stadium/
CATEGORIES:Community Outreach,Fundraiser
ATTACH;FMTTYPE=image/jpeg:https://sierraarts.org/wp-content/uploads/2024/01/bowling-1-scaled.jpg
END:VEVENT
END:VCALENDAR