BEGIN:VCALENDAR
VERSION:2.0
PRODID:-//Sierra Arts Foundation - ECPv5.1.6//NONSGML v1.0//EN
CALSCALE:GREGORIAN
METHOD:PUBLISH
X-WR-CALNAME:Sierra Arts Foundation
X-ORIGINAL-URL:https://sierraarts.org
X-WR-CALDESC:Events for Sierra Arts Foundation
BEGIN:VTIMEZONE
TZID:America/Los_Angeles
BEGIN:DAYLIGHT
TZOFFSETFROM:-0800
TZOFFSETTO:-0700
TZNAME:PDT
DTSTART:20240310T100000
END:DAYLIGHT
BEGIN:STANDARD
TZOFFSETFROM:-0700
TZOFFSETTO:-0800
TZNAME:PST
DTSTART:20241103T090000
END:STANDARD
END:VTIMEZONE
BEGIN:VEVENT
DTSTART;TZID=America/Los_Angeles:20241207T123000
DTEND;TZID=America/Los_Angeles:20241207T153000
DTSTAMP:20260420T193324
CREATED:20241122T034158Z
LAST-MODIFIED:20250328T004653Z
UID:447626-1733574600-1733585400@sierraarts.org
SUMMARY:Jack Davis Artist Reception • December 7th
DESCRIPTION:Full & Empty Landscapes by Jack Davis\nExhibition Dates: December 4-31\, 2024 \nReception Date: Saturday\, December 7th from 12:30pm to 3:30pm \nWhy do I feel complete in the big sky places among the strange artifacts of desert civilization? With light soaking both from above and by reflection off the snow\, the earth\, or a wall\, bright gradients for skies create a grand sense of scale. An old telephone pole\, a concrete slab\, a shack in the distance hint at a story of hope and of melancholy\, of humankind’s impact on the landscape and the fading of that impact through time. I think I am drawn to these scenes because they simultaneously make me feel small and yet with some sense of agency. \nThese are paintings primarily of scenes close to the Reno-Tahoe area. They are predominantly made with acrylic paints and with gloss mediums and varnish that capture the luminosity of the sun-drenched West. I came to the Reno-Tahoe area several years ago and rediscovered my love of landscape painting in this endlessly inspirational part of the world. Some paintings also feature scenes from my home state of Minnesota. I hope some people in this community will find resonance and joy in these paintings. \nGallery Hours:  Tuesday – Friday 10:00am to 4:00pm and Saturday 12:00pm to 4:00pm \nFor information about the exhibit and the artist\, please contact the gallery curator\, Maria Partridge • maria@sierra-arts.org
URL:https://sierraarts.org/event/jack-davis-artist-reception-december-7th/
LOCATION:Sierra Arts Annex Gallery\, 17 S Virginia Street\, Suite 120\, Reno\, NV\, 89501\, United States
CATEGORIES:All Events,Art Sale,Artist Reception,Exhibits
ATTACH;FMTTYPE=image/png:https://sierraarts.org/wp-content/uploads/2024/11/Web-2412-Annex.png
END:VEVENT
END:VCALENDAR