BEGIN:VCALENDAR
VERSION:2.0
PRODID:-//Sierra Arts Foundation - ECPv5.1.6//NONSGML v1.0//EN
CALSCALE:GREGORIAN
METHOD:PUBLISH
X-WR-CALNAME:Sierra Arts Foundation
X-ORIGINAL-URL:https://sierraarts.org
X-WR-CALDESC:Events for Sierra Arts Foundation
BEGIN:VTIMEZONE
TZID:America/Los_Angeles
BEGIN:DAYLIGHT
TZOFFSETFROM:-0800
TZOFFSETTO:-0700
TZNAME:PDT
DTSTART:20210314T100000
END:DAYLIGHT
BEGIN:STANDARD
TZOFFSETFROM:-0700
TZOFFSETTO:-0800
TZNAME:PST
DTSTART:20211107T090000
END:STANDARD
END:VTIMEZONE
BEGIN:VEVENT
DTSTART;TZID=America/Los_Angeles:20210108T080000
DTEND;TZID=America/Los_Angeles:20210130T170000
DTSTAMP:20260421T063642
CREATED:20201217T201820Z
LAST-MODIFIED:20201217T201820Z
UID:437696-1610092800-1612026000@sierraarts.org
SUMMARY:Jonathon Farber Sharpie in the Small Works Gallery
DESCRIPTION:Jonathan Farber uses Sharpie markers to create drawings that are rooted in a specific mark making style that can be described as patterns of redundant and haphazard scrawls. Farber’s concept of mark making is an intellectual amusement of infinity\, as well as a meditation of time\, space and thought. \nExhibition – January 8th thru 30th \nReception – Thursday\, January 21st\, 6 to 8 pm
URL:https://sierraarts.org/event/jonathon-farber-sharpie-in-the-small-works-gallery/
LOCATION:SAF Small Works\, 17 S Virginia Street\, Reno\, NV\, 89501\, United States
CATEGORIES:Artist Reception,Exhibits
ATTACH;FMTTYPE=image/jpeg:https://sierraarts.org/wp-content/uploads/2020/12/Chromatic-Aberration-.jpeg
END:VEVENT
END:VCALENDAR