BEGIN:VCALENDAR
VERSION:2.0
PRODID:-//Sierra Arts Foundation - ECPv5.1.6//NONSGML v1.0//EN
CALSCALE:GREGORIAN
METHOD:PUBLISH
X-WR-CALNAME:Sierra Arts Foundation
X-ORIGINAL-URL:https://sierraarts.org
X-WR-CALDESC:Events for Sierra Arts Foundation
BEGIN:VTIMEZONE
TZID:America/Los_Angeles
BEGIN:DAYLIGHT
TZOFFSETFROM:-0800
TZOFFSETTO:-0700
TZNAME:PDT
DTSTART:20260308T100000
END:DAYLIGHT
BEGIN:STANDARD
TZOFFSETFROM:-0700
TZOFFSETTO:-0800
TZNAME:PST
DTSTART:20261101T090000
END:STANDARD
END:VTIMEZONE
BEGIN:VEVENT
DTSTART;TZID=America/Los_Angeles:20260321T100000
DTEND;TZID=America/Los_Angeles:20260321T150000
DTSTAMP:20260421T001358
CREATED:20260305T232652Z
LAST-MODIFIED:20260305T232652Z
UID:449153-1774087200-1774105200@sierraarts.org
SUMMARY:March 21 • Artists Supply Garage Sale
DESCRIPTION:Artist’s Supply Garage Sale • Saturday\, March 21st\, 202610:00am–3:00pm \n1995 Dickerson Rd \nCalling artists AND art lovers! We’ve cleaned out our studios\, bundled up supplies\, invited fellow creatives\, and are hosting our annual Artist’s Supply Garage Sale — and artist registration is still OPEN! \nFOR ARTISTS WANTING TO VEND:This is your chance to declutter your studio\, pass along usable supplies\, and make some extra cash selling directly to the community. \nArtist Registration Options:• Bring your own 6’ table — $25• 6’ table provided — $30 \nArtist Details:-Supplies must be in usable condition-Artists keep 100% of sales-Space is limited-Artists must take all unsold supplies after the event-Artists are encouraged to help promote the sale \nRegistration closes March 14To register: Prismmagic@gmail.com (Contact: Lauren Hufft) \nFOR THE PUBLIC:Come hunt for treasures\, stock up your stash\, and score amazing deals on art supplies — prices set to sell! Support local artists and discover materials for your next creative project. \nSave the date & spread the word!  \n 
URL:https://sierraarts.org/event/march-21-artists-supply-garage-sale/
LOCATION:1995 Dickerson\, 1995 Dickerson Rd\, Reno\, 89503
CATEGORIES:All Events,Art Sale,Community Outreach,Festival,Fundraiser,Pop-up
ATTACH;FMTTYPE=image/jpeg:https://sierraarts.org/wp-content/uploads/2026/03/image0-3.jpeg
END:VEVENT
END:VCALENDAR