BEGIN:VCALENDAR
VERSION:2.0
PRODID:-//Sierra Arts Foundation - ECPv5.1.6//NONSGML v1.0//EN
CALSCALE:GREGORIAN
METHOD:PUBLISH
X-WR-CALNAME:Sierra Arts Foundation
X-ORIGINAL-URL:https://sierraarts.org
X-WR-CALDESC:Events for Sierra Arts Foundation
BEGIN:VTIMEZONE
TZID:America/Los_Angeles
BEGIN:DAYLIGHT
TZOFFSETFROM:-0800
TZOFFSETTO:-0700
TZNAME:PDT
DTSTART:20220313T100000
END:DAYLIGHT
BEGIN:STANDARD
TZOFFSETFROM:-0700
TZOFFSETTO:-0800
TZNAME:PST
DTSTART:20221106T090000
END:STANDARD
END:VTIMEZONE
BEGIN:VEVENT
DTSTART;TZID=America/Los_Angeles:20221202T080000
DTEND;TZID=America/Los_Angeles:20221223T170000
DTSTAMP:20260421T171252
CREATED:20221201T200841Z
LAST-MODIFIED:20221201T200842Z
UID:443254-1669968000-1671814800@sierraarts.org
SUMMARY:Nature Photography by Dotty Molt and Dana Garrett
DESCRIPTION:Exhibition Dates:  December 2nd thru 23rd \nReception Date:  Wednesday\, December 7th\, 6 to 8 pm
URL:https://sierraarts.org/event/nature-photography-by-dotty-molt-and-dana-garrett/
LOCATION:Sierra Arts Riverside Gallery\, 17 S Virginia Street\, Suite 120\, Reno\, NV\, 89501\, United States
CATEGORIES:Artist Reception,Exhibits
ATTACH;FMTTYPE=image/jpeg:https://sierraarts.org/wp-content/uploads/2022/12/Dec-Web.jpg
END:VEVENT
END:VCALENDAR