BEGIN:VCALENDAR
VERSION:2.0
PRODID:-//Sierra Arts Foundation - ECPv5.1.6//NONSGML v1.0//EN
CALSCALE:GREGORIAN
METHOD:PUBLISH
X-WR-CALNAME:Sierra Arts Foundation
X-ORIGINAL-URL:https://sierraarts.org
X-WR-CALDESC:Events for Sierra Arts Foundation
BEGIN:VTIMEZONE
TZID:America/Los_Angeles
BEGIN:DAYLIGHT
TZOFFSETFROM:-0800
TZOFFSETTO:-0700
TZNAME:PDT
DTSTART:20210314T100000
END:DAYLIGHT
BEGIN:STANDARD
TZOFFSETFROM:-0700
TZOFFSETTO:-0800
TZNAME:PST
DTSTART:20211107T090000
END:STANDARD
END:VTIMEZONE
BEGIN:VEVENT
DTSTART;VALUE=DATE:20210403
DTEND;VALUE=DATE:20210430
DTSTAMP:20260421T083243
CREATED:20210326T190122Z
LAST-MODIFIED:20210326T190123Z
UID:438301-1617408000-1619740799@sierraarts.org
SUMMARY:On The Sunnyside an Exhibition by Hannah Huntley
DESCRIPTION:Exhibition: April 3-29 \nReception: Thursday\, April 15 4-7 PM \nOn the Sunny Side brings attention to the invisible pain that invisible illnesses inflict\, as well as the emotional turmoil that comes with not being perceived as ill\, by the outside world. \nHannah Huntley was born in Los Angeles\, California and raised in Reno\, Nevada. Specializing in silkscreen and intaglio\, she uses printmaking as her primary medium. It makes her images more accessible to the public. Huntley’s work revolves around body image.  \nHuntley earned a Bachelor of Fine Arts degree at the University of Nevada in 2019.
URL:https://sierraarts.org/event/on-the-sunnyside-an-exhibition-by-hannah-huntley/
LOCATION:Depot Gallery & Bookstore\, 831 Victorian Avenue\, Sparks\, NV\, 89431\, United States
CATEGORIES:Artist Reception,Exhibits
ATTACH;FMTTYPE=image/jpeg:https://sierraarts.org/wp-content/uploads/2021/03/On-the-Sunny-Side-promo--scaled.jpg
ORGANIZER;CN="Sierra%20Arts%20Foundation":MAILTO:info@sierraarts.org
END:VEVENT
END:VCALENDAR