BEGIN:VCALENDAR
VERSION:2.0
PRODID:-//Sierra Arts Foundation - ECPv5.1.6//NONSGML v1.0//EN
CALSCALE:GREGORIAN
METHOD:PUBLISH
X-WR-CALNAME:Sierra Arts Foundation
X-ORIGINAL-URL:https://sierraarts.org
X-WR-CALDESC:Events for Sierra Arts Foundation
BEGIN:VTIMEZONE
TZID:America/Los_Angeles
BEGIN:DAYLIGHT
TZOFFSETFROM:-0800
TZOFFSETTO:-0700
TZNAME:PDT
DTSTART:20200308T100000
END:DAYLIGHT
BEGIN:STANDARD
TZOFFSETFROM:-0700
TZOFFSETTO:-0800
TZNAME:PST
DTSTART:20201101T090000
END:STANDARD
END:VTIMEZONE
BEGIN:VEVENT
DTSTART;TZID=America/Los_Angeles:20201102T080000
DTEND;TZID=America/Los_Angeles:20201130T170000
DTSTAMP:20260421T094542
CREATED:20201105T175330Z
LAST-MODIFIED:20201105T175500Z
UID:437479-1604304000-1606755600@sierraarts.org
SUMMARY:Portraits from Strangers by Nick Noyes
DESCRIPTION:Shim’s Surplus Supply presents Nick Noyes\,  \nPortraits from Strangers \nNick J. Noyes is an emerging\, award winning\, local artist.  He is currently and artist-in-residence at The Potentialist Workshop.  His work has been showcased at Hub Galleries\, Lasting Dose Gallery\, NeverEnder Gallery\, Brew HaHa\, Reno Art Fest\, and the Potentialist Gallery. \nArtist Reception\, Thursday\, November 12th\, 6 to 8 pm \nExhibition Dates – November 2nd thru 30th
URL:https://sierraarts.org/event/portraits-from-strangers-by-nick-noyes/
LOCATION:Shim’s Surplus Supplies\, 125 West 3rd Street\, Reno\, NV\, 89501\, United States
CATEGORIES:Artist Reception,Exhibits
ATTACH;FMTTYPE=image/jpeg:https://sierraarts.org/wp-content/uploads/2020/11/Nick.jpg
END:VEVENT
END:VCALENDAR