BEGIN:VCALENDAR
VERSION:2.0
PRODID:-//Sierra Arts Foundation - ECPv5.1.6//NONSGML v1.0//EN
CALSCALE:GREGORIAN
METHOD:PUBLISH
X-WR-CALNAME:Sierra Arts Foundation
X-ORIGINAL-URL:https://sierraarts.org
X-WR-CALDESC:Events for Sierra Arts Foundation
BEGIN:VTIMEZONE
TZID:America/Los_Angeles
BEGIN:DAYLIGHT
TZOFFSETFROM:-0800
TZOFFSETTO:-0700
TZNAME:PDT
DTSTART:20200308T100000
END:DAYLIGHT
BEGIN:STANDARD
TZOFFSETFROM:-0700
TZOFFSETTO:-0800
TZNAME:PST
DTSTART:20201101T090000
END:STANDARD
END:VTIMEZONE
BEGIN:VEVENT
DTSTART;TZID=America/Los_Angeles:20200929T080000
DTEND;TZID=America/Los_Angeles:20201101T170000
DTSTAMP:20260421T112037
CREATED:20200921T211534Z
LAST-MODIFIED:20200922T000232Z
UID:437216-1601366400-1604250000@sierraarts.org
SUMMARY:Remnants Exhibition by Sidne Teske
DESCRIPTION:September 29th thru November 1st 2020 \nArtist Reception\, Thursday\, October 15th 6 to 8pm. \nSocial distancing and face masks are required. \nhttps://www.wildwomenartists.com/sidne-teske.html \n  \nImage is Morning Above Tuscarora
URL:https://sierraarts.org/event/remnants-by-sidne-teske/
LOCATION:Sierra Arts Riverside Gallery\, 17 S Virginia Street\, Suite 120\, Reno\, NV\, 89501\, United States
CATEGORIES:Artist Reception,Exhibits
ATTACH;FMTTYPE=image/jpeg:https://sierraarts.org/wp-content/uploads/2020/09/Morning-Above-Tuscarora-copy.jpg
END:VEVENT
END:VCALENDAR