BEGIN:VCALENDAR
VERSION:2.0
PRODID:-//Sierra Arts Foundation - ECPv5.1.6//NONSGML v1.0//EN
CALSCALE:GREGORIAN
METHOD:PUBLISH
X-WR-CALNAME:Sierra Arts Foundation
X-ORIGINAL-URL:https://sierraarts.org
X-WR-CALDESC:Events for Sierra Arts Foundation
BEGIN:VTIMEZONE
TZID:America/Los_Angeles
BEGIN:DAYLIGHT
TZOFFSETFROM:-0800
TZOFFSETTO:-0700
TZNAME:PDT
DTSTART:20200308T100000
END:DAYLIGHT
BEGIN:STANDARD
TZOFFSETFROM:-0700
TZOFFSETTO:-0800
TZNAME:PST
DTSTART:20201101T090000
END:STANDARD
END:VTIMEZONE
BEGIN:VEVENT
DTSTART;TZID=America/Los_Angeles:20201104T080000
DTEND;TZID=America/Los_Angeles:20201128T170000
DTSTAMP:20260421T080714
CREATED:20201102T203931Z
LAST-MODIFIED:20201105T165806Z
UID:437470-1604476800-1606582800@sierraarts.org
SUMMARY:Retro Metro - Signs of The Old Times by Debbie Wolff
DESCRIPTION:Retro Metro is a series of hand colored black and white photos which commemorate the design and craftsmanship of the neon signage of days gone by.\n\nFeaturing photos by Debbie Wolff and wall collage sculptures by Michael Burke \n\n\nExhibition\, November 4th thru 28th 2020\n\nReception\, November 19th\, 6 to 8 pm
URL:https://sierraarts.org/event/retro-metro-signs-of-the-old-times-by-debbie-wolff/
LOCATION:SAF Annex Gallery\, 17 S Virginia Street\, Reno\, NV\, 89501\, United States
CATEGORIES:Artist Reception,Exhibits
ATTACH;FMTTYPE=image/jpeg:https://sierraarts.org/wp-content/uploads/2020/11/SA-Show-Announcement.jpg
END:VEVENT
END:VCALENDAR