BEGIN:VCALENDAR
VERSION:2.0
PRODID:-//Sierra Arts Foundation - ECPv5.1.6//NONSGML v1.0//EN
CALSCALE:GREGORIAN
METHOD:PUBLISH
X-WR-CALNAME:Sierra Arts Foundation
X-ORIGINAL-URL:https://sierraarts.org
X-WR-CALDESC:Events for Sierra Arts Foundation
BEGIN:VTIMEZONE
TZID:America/Los_Angeles
BEGIN:DAYLIGHT
TZOFFSETFROM:-0800
TZOFFSETTO:-0700
TZNAME:PDT
DTSTART:20230312T100000
END:DAYLIGHT
BEGIN:STANDARD
TZOFFSETFROM:-0700
TZOFFSETTO:-0800
TZNAME:PST
DTSTART:20231105T090000
END:STANDARD
END:VTIMEZONE
BEGIN:VEVENT
DTSTART;TZID=America/Los_Angeles:20231230T120000
DTEND;TZID=America/Los_Angeles:20231230T160000
DTSTAMP:20260421T050849
CREATED:20231117T185813Z
LAST-MODIFIED:20231120T184926Z
UID:446094-1703937600-1703952000@sierraarts.org
SUMMARY:SAF Sip and Screen:  National Lampoon's Christmas Vacation
DESCRIPTION:Join us in a final Christmas hurrah by coming out to celebrate the holiday one last time in 2023! Pull out those ugly holiday sweaters one last time\, partake in some Griswold Family Eggnog and Cousin Eddie’s RV Rum Punch\, and enjoy one last party before 2024! \nWe will meet in the Sierra Arts Riverside Gallery for drinks and snacks before walking over to the Century Riverside theater for a private screening of National Lampoon’s Christmas Vacation beginning at 2 pm.  \nGet your tickets HERE!
URL:https://sierraarts.org/event/saf-sip-and-screen-national-lampoons-christmas-vacation/
LOCATION:Sierra Arts Riverside Gallery\, 17 S Virginia Street\, Suite 120\, Reno\, NV\, 89501\, United States
CATEGORIES:Community Outreach,Fundraiser
ATTACH;FMTTYPE=image/png:https://sierraarts.org/wp-content/uploads/2023/11/SAF-Xmas-Vacation-Web-Image-STATIC-1.png
END:VEVENT
END:VCALENDAR