BEGIN:VCALENDAR
VERSION:2.0
PRODID:-//Sierra Arts Foundation - ECPv5.1.6//NONSGML v1.0//EN
CALSCALE:GREGORIAN
METHOD:PUBLISH
X-WR-CALNAME:Sierra Arts Foundation
X-ORIGINAL-URL:https://sierraarts.org
X-WR-CALDESC:Events for Sierra Arts Foundation
BEGIN:VTIMEZONE
TZID:America/Los_Angeles
BEGIN:DAYLIGHT
TZOFFSETFROM:-0800
TZOFFSETTO:-0700
TZNAME:PDT
DTSTART:20230312T100000
END:DAYLIGHT
BEGIN:STANDARD
TZOFFSETFROM:-0700
TZOFFSETTO:-0800
TZNAME:PST
DTSTART:20231105T090000
END:STANDARD
END:VTIMEZONE
BEGIN:VEVENT
DTSTART;TZID=America/Los_Angeles:20231013T170000
DTEND;TZID=America/Los_Angeles:20231013T200000
DTSTAMP:20260421T075114
CREATED:20230915T170618Z
LAST-MODIFIED:20231004T222720Z
UID:445674-1697216400-1697227200@sierraarts.org
SUMMARY:Sierra Arts Academy Grand Opening
DESCRIPTION:Come out and tour our newly renovated Sierra Arts Academy space at 1995 Dickerson Road.  We will have facility tours\, live demonstrations by our teaching artists Mandi Wirtanen\, live music by Van Vinikow\, and\, of course\, food and drinks by Wild River Grille! \nThe Sierra Arts Academy offers a diverse range of courses catering to adult and youth artists of varying skills across various artistic disciplines. Academy offerings include workshops\, classes and hands-on education sessions that enhance artistic skills\, foster creativity\, and engage with a community of like-minded individuals who share a passion for the arts.
URL:https://sierraarts.org/event/sierra-arts-academy-grand-opening/
LOCATION:1995 Dickerson\, 1995 Dickerson Rd\, Reno\, 89503
CATEGORIES:Community Outreach
ATTACH;FMTTYPE=image/png:https://sierraarts.org/wp-content/uploads/2023/09/Acad-FBE-231013-OH.png
END:VEVENT
END:VCALENDAR