BEGIN:VCALENDAR
VERSION:2.0
PRODID:-//Sierra Arts Foundation - ECPv5.1.6//NONSGML v1.0//EN
CALSCALE:GREGORIAN
METHOD:PUBLISH
X-WR-CALNAME:Sierra Arts Foundation
X-ORIGINAL-URL:https://sierraarts.org
X-WR-CALDESC:Events for Sierra Arts Foundation
BEGIN:VTIMEZONE
TZID:America/Los_Angeles
BEGIN:DAYLIGHT
TZOFFSETFROM:-0800
TZOFFSETTO:-0700
TZNAME:PDT
DTSTART:20210314T100000
END:DAYLIGHT
BEGIN:STANDARD
TZOFFSETFROM:-0700
TZOFFSETTO:-0800
TZNAME:PST
DTSTART:20211107T090000
END:STANDARD
END:VTIMEZONE
BEGIN:VEVENT
DTSTART;TZID=America/Los_Angeles:20210205T080000
DTEND;TZID=America/Los_Angeles:20210227T170000
DTSTAMP:20260421T004606
CREATED:20210208T172927Z
LAST-MODIFIED:20210208T173116Z
UID:437832-1612512000-1614445200@sierraarts.org
SUMMARY:Yielding the Unknown by Tracy Kimmons
DESCRIPTION:In my paintings\, I like to paint in the first minute with my eyes closed. I do this to capture the unknown. Through the different forms and marks\, I create a composition that leads my imagination to tell a story. \nExhibition Dates – February 5th thru 27th \nArtist Reception\, Thursday\, February 18th\, 6 to 8 pm
URL:https://sierraarts.org/event/yielding-the-unknown-by-tracy-kimmons/
LOCATION:SAF Small Works\, 17 S Virginia Street\, Reno\, NV\, 89501\, United States
CATEGORIES:Artist Reception,Exhibits
ATTACH;FMTTYPE=image/jpeg:https://sierraarts.org/wp-content/uploads/2021/02/T-Kimmons.jpeg
END:VEVENT
END:VCALENDAR