BEGIN:VCALENDAR
VERSION:2.0
PRODID:-//Sierra Arts Foundation - ECPv5.1.6//NONSGML v1.0//EN
CALSCALE:GREGORIAN
METHOD:PUBLISH
X-WR-CALNAME:Sierra Arts Foundation
X-ORIGINAL-URL:https://sierraarts.org
X-WR-CALDESC:Events for Sierra Arts Foundation
BEGIN:VTIMEZONE
TZID:America/Los_Angeles
BEGIN:DAYLIGHT
TZOFFSETFROM:-0800
TZOFFSETTO:-0700
TZNAME:PDT
DTSTART:20210314T100000
END:DAYLIGHT
BEGIN:STANDARD
TZOFFSETFROM:-0700
TZOFFSETTO:-0800
TZNAME:PST
DTSTART:20211107T090000
END:STANDARD
END:VTIMEZONE
BEGIN:VEVENT
DTSTART;TZID=America/Los_Angeles:20210206T080000
DTEND;TZID=America/Los_Angeles:20210228T170000
DTSTAMP:20260421T021827
CREATED:20201218T171739Z
LAST-MODIFIED:20201218T171739Z
UID:437705-1612598400-1614531600@sierraarts.org
SUMMARY:"Your Body Changes Everything" Group Exhibition
DESCRIPTION:Depot Gallery\, Victorian Square\, Sparks \nFeaturing:  Bryce Betterley\, Nick Noyes\, Leslie King \nExhibition – February 6th thru 28th \nReception\, Thursday\, February 18th\, 5 to 7 pm \nBased on the song by acclaimed recording artist\, Perfume Genius\, local artists give their interpretation of the human form in its varied pose and form. The exhibition will also examine the balance we maintain in relationships and the roles we play through constant dynamic shifts of femininity\, masculinity and sexuality. 
URL:https://sierraarts.org/event/your-body-changes-everything-group-exhibition/
LOCATION:Depot Gallery & Bookstore\, 831 Victorian Avenue\, Sparks\, NV\, 89431\, United States
CATEGORIES:Artist Reception,Exhibits
ATTACH;FMTTYPE=image/jpeg:https://sierraarts.org/wp-content/uploads/2020/12/Nick-Depot.jpg
END:VEVENT
END:VCALENDAR